BEGIN:VCALENDAR
PRODID:-//eluceo/ical//2.0/EN
VERSION:2.0
CALSCALE:GREGORIAN
BEGIN:VEVENT
UID:ec66cf550135566b3cf26dbfbbc6a975
DTSTAMP:20260421T035132Z
SUMMARY:Löwenherz\, Festival 2026\, Davos Festival
URL:https://davosfestival.ch/festival/2026/loewenherz-07-08-2026-20h00-kong
 resszentrum-davos
DTSTART:20260807T200000
DTEND:20260807T211000
LOCATION:Kongresszentrum Davos
END:VEVENT
END:VCALENDAR
