BEGIN:VCALENDAR
PRODID:-//eluceo/ical//2.0/EN
VERSION:2.0
CALSCALE:GREGORIAN
BEGIN:VEVENT
UID:52aacf06d745823df810770576d60e7b
DTSTAMP:20260421T035233Z
SUMMARY:Offenes Singen\, Festival 2026\, Davos Festival
URL:https://davosfestival.ch/festival/2026/offenes-singen-1-1-1-1-1-13-08-2
 026-10h00-kulturplatz-davos
DTSTART:20260813T100000
DTEND:20260813T103000
LOCATION:Kulturplatz Davos
GEO:46.796506;9.822392
X-APPLE-STRUCTURED-LOCATION;VALUE=URI;X-ADDRESS=Kulturplatz Davos;X-APPLE-R
 ADIUS=49;X-TITLE=:geo:46.796506,9.822392
END:VEVENT
END:VCALENDAR
