BEGIN:VCALENDAR
PRODID:-//eluceo/ical//2.0/EN
VERSION:2.0
CALSCALE:GREGORIAN
BEGIN:VEVENT
UID:ef32471d6436d08adb2ae26a1f49c836
DTSTAMP:20260421T035255Z
SUMMARY:Zwischenhalt\, Festival 2026\, Davos Festival
URL:https://davosfestival.ch/festival/2026/zwischenhalt-1-1-07-08-2026-17h0
 0-bahnhof-davos-platz
DTSTART:20260807T170000
DTEND:20260807T173000
LOCATION:Bahnhof Davos Platz
END:VEVENT
END:VCALENDAR
