BEGIN:VCALENDAR
PRODID:-//eluceo/ical//2.0/EN
VERSION:2.0
CALSCALE:GREGORIAN
BEGIN:VEVENT
UID:849c737ac6fbfbcb24a0ccee9fb493a7
DTSTAMP:20260421T035009Z
SUMMARY:Zwischenhalt\, Festival 2026\, Davos Festival
URL:https://davosfestival.ch/festival/2026/zwischenhalt-1-1-1-10-08-2026-17
 h00-bahnhof-davos-platz
DTSTART:20260810T170000
DTEND:20260810T173000
LOCATION:Bahnhof Davos Platz
END:VEVENT
END:VCALENDAR
