BEGIN:VCALENDAR
PRODID:-//eluceo/ical//2.0/EN
VERSION:2.0
CALSCALE:GREGORIAN
BEGIN:VEVENT
UID:efef4902f7a5a5f7399f8f739f168e1f
DTSTAMP:20260421T073709Z
SUMMARY:Zwischenhalt\, Festival 2026\, Davos Festival
URL:https://davosfestival.ch/festival/2026/zwischenhalt-1-04-08-2026-17h00-
 bahnhof-davos-platz
DTSTART:20260804T170000
DTEND:20260804T173000
LOCATION:Bahnhof Davos Platz
END:VEVENT
END:VCALENDAR
