BEGIN:VCALENDAR
PRODID:-//eluceo/ical//2.0/EN
VERSION:2.0
CALSCALE:GREGORIAN
BEGIN:VEVENT
UID:4454073ad27b4aed259a2076d12f937f
DTSTAMP:20260421T035213Z
SUMMARY:Mutprobe\, Festival 2026\, Davos Festival
URL:https://davosfestival.ch/festival/2026/mutprobe-14-08-2026-20h00-kirche
 -st-johann
DTSTART:20260814T200000
DTEND:20260814T210500
LOCATION:Kirche St. Johann
END:VEVENT
END:VCALENDAR
