BEGIN:VCALENDAR
PRODID:-//eluceo/ical//2.0/EN
VERSION:2.0
CALSCALE:GREGORIAN
BEGIN:VEVENT
UID:cbcef8f2a22463226dfb4fab62079472
DTSTAMP:20260421T035213Z
SUMMARY:Stiller Mut\, Festival 2026\, Davos Festival
URL:https://davosfestival.ch/festival/2026/stiller-mut-06-08-2026-20h00-gro
 sse-stube-ratshaus
DTSTART:20260806T200000
DTEND:20260806T211000
LOCATION:Grosse Stube Ratshaus
END:VEVENT
END:VCALENDAR
