BEGIN:VCALENDAR
PRODID:-//eluceo/ical//2.0/EN
VERSION:2.0
CALSCALE:GREGORIAN
BEGIN:VEVENT
UID:7a6025e4ff65956587cc66664869b84c
DTSTAMP:20260421T073730Z
SUMMARY:No risk no fun\, Festival 2026\, Davos Festival
URL:https://davosfestival.ch/festival/2026/no-risk-no-fun-12-08-2026-22h00-
 kulturplatz-davos
DTSTART:20260812T220000
DTEND:20260812T230000
LOCATION:Kulturplatz Davos
GEO:46.796506;9.822392
X-APPLE-STRUCTURED-LOCATION;VALUE=URI;X-ADDRESS=Kulturplatz Davos;X-APPLE-R
 ADIUS=49;X-TITLE=:geo:46.796506,9.822392
END:VEVENT
END:VCALENDAR
