BEGIN:VCALENDAR
PRODID:-//eluceo/ical//2.0/EN
VERSION:2.0
CALSCALE:GREGORIAN
BEGIN:VEVENT
UID:38f1a2b11ed8d653ba5216bf9e4dd80d
DTSTAMP:20260421T035404Z
SUMMARY:Götterfunken\, Festival 2026\, Davos Festival
URL:https://davosfestival.ch/festival/2026/goetterfunken-03-08-2026-20h00-k
 ongresszentrum-davos
DTSTART:20260803T200000
DTEND:20260803T211000
LOCATION:Kongresszentrum Davos
END:VEVENT
END:VCALENDAR
