BEGIN:VCALENDAR
PRODID:-//eluceo/ical//2.0/EN
VERSION:2.0
CALSCALE:GREGORIAN
BEGIN:VEVENT
UID:f1c699c4b3559679a016ff423e89f147
DTSTAMP:20260421T035233Z
SUMMARY:Trau dich - Davos Festival Hauskonzerte\, Festival 2026\, Davos Fes
 tival
URL:https://davosfestival.ch/festival/2026/trau-dich-davos-festival-hauskon
 zerte-12-08-2026-20h00-davos
DTSTART:20260812T200000
DTEND:20260812T210000
LOCATION:Davos
END:VEVENT
END:VCALENDAR
