BEGIN:VCALENDAR
PRODID:-//eluceo/ical//2.0/EN
VERSION:2.0
CALSCALE:GREGORIAN
BEGIN:VEVENT
UID:5338a458f012220792326791fec4c6dc
DTSTAMP:20260421T054723Z
SUMMARY:Tango\, Festival 2026\, Davos Festival
URL:https://davosfestival.ch/festival/2026/tango-08-08-2026-21h15-kongressz
 entrum-davos
DTSTART:20260808T211500
DTEND:20260808T221500
LOCATION:Kongresszentrum Davos
END:VEVENT
END:VCALENDAR
