BEGIN:VCALENDAR
PRODID:-//eluceo/ical//2.0/EN
VERSION:2.0
CALSCALE:GREGORIAN
BEGIN:VEVENT
UID:a9a4dae4f3d9eac23e8a39399592f550
DTSTAMP:20260421T035356Z
SUMMARY:Furchtlos\, Festival 2026\, Davos Festival
URL:https://davosfestival.ch/festival/2026/furchtlos-12-08-2026-13h15-davos
DTSTART:20260812T131500
DTEND:20260812T170000
LOCATION:Davos
END:VEVENT
END:VCALENDAR
