BEGIN:VCALENDAR
PRODID:-//eluceo/ical//2.0/EN
VERSION:2.0
CALSCALE:GREGORIAN
BEGIN:VEVENT
UID:cefd1a8c78d84ae051871bd887831aca
DTSTAMP:20260421T065745Z
SUMMARY:Zurück in die Zukunft\, Festival 2026\, Davos Festival
URL:https://davosfestival.ch/festival/2026/zurueck-in-die-zukunft-1-1-1-05-
 08-2026-11h00-kirche-st-theodul
DTSTART:20260805T110000
DTEND:20260805T113000
LOCATION:Kirche St. Theodul
GEO:46.809191;9.839670
X-APPLE-STRUCTURED-LOCATION;VALUE=URI;X-ADDRESS=Kirche St. Theodul;X-APPLE-
 RADIUS=49;X-TITLE=:geo:46.809191,9.839670
END:VEVENT
END:VCALENDAR
