BEGIN:VCALENDAR
PRODID:-//eluceo/ical//2.0/EN
VERSION:2.0
CALSCALE:GREGORIAN
BEGIN:VEVENT
UID:2200dc577d00d87ef3ab273e513dd0b7
DTSTAMP:20260421T035030Z
SUMMARY:Emilia\, Festival 2026\, Davos Festival
URL:https://davosfestival.ch/festival/2026/emilia-05-08-2026-20h00-kirche-s
 t-johann
DTSTART:20260805T200000
DTEND:20260805T211000
LOCATION:Kirche St. Johann
END:VEVENT
END:VCALENDAR
