BEGIN:VCALENDAR
PRODID:-//eluceo/ical//2.0/EN
VERSION:2.0
CALSCALE:GREGORIAN
BEGIN:VEVENT
UID:d754caa935f696e70a8d79387fb78a89
DTSTAMP:20260421T035417Z
SUMMARY:Trotz und Traum\, Festival 2026\, Davos Festival
URL:https://davosfestival.ch/festival/2026/trotz-und-traum-13-08-2026-20h00
 -kongresszentrum-davos
DTSTART:20260813T200000
DTEND:20260813T211000
LOCATION:Kongresszentrum Davos
END:VEVENT
END:VCALENDAR
