BEGIN:VCALENDAR
PRODID:-//eluceo/ical//2.0/EN
VERSION:2.0
CALSCALE:GREGORIAN
BEGIN:VEVENT
UID:a44445d416ccfae84afde76ea502dec4
DTSTAMP:20260421T035030Z
SUMMARY:Mut verleiht Flügel\, Festival 2026\, Davos Festival
URL:https://davosfestival.ch/festival/2026/mut-verleiht-fluegel-11-08-2026-
 20h00-berghotel-schatzalp
DTSTART:20260811T200000
DTEND:20260811T211000
LOCATION:Berghotel Schatzalp
GEO:46.801378;9.813922
X-APPLE-STRUCTURED-LOCATION;VALUE=URI;X-ADDRESS=Berghotel Schatzalp;X-APPLE
 -RADIUS=49;X-TITLE=:geo:46.801378,9.813922
END:VEVENT
END:VCALENDAR
