BEGIN:VCALENDAR
PRODID:-//eluceo/ical//2.0/EN
VERSION:2.0
CALSCALE:GREGORIAN
BEGIN:VEVENT
UID:f528306698dcda3a723083f9ae92c879
DTSTAMP:20260421T055103Z
SUMMARY:Offenes Singen\, Festival 2026\, Davos Festival
URL:https://davosfestival.ch/festival/2026/offenes-singen-1-03-08-2026-10h0
 0-kulturplatz-davos
DTSTART:20260803T100000
DTEND:20260803T103000
LOCATION:Kulturplatz Davos
GEO:46.796506;9.822392
X-APPLE-STRUCTURED-LOCATION;VALUE=URI;X-ADDRESS=Kulturplatz Davos;X-APPLE-R
 ADIUS=49;X-TITLE=:geo:46.796506,9.822392
END:VEVENT
END:VCALENDAR
