BEGIN:VCALENDAR
PRODID:-//eluceo/ical//2.0/EN
VERSION:2.0
CALSCALE:GREGORIAN
BEGIN:VEVENT
UID:9123049bdace84bcc9ea9ae0a1fd386b
DTSTAMP:20260421T035041Z
SUMMARY:Annemarie\, Festival 2026\, Davos Festival
URL:https://davosfestival.ch/festival/2026/annemarie-02-08-2026-17h00-kongr
 esszentrum-davos
DTSTART:20260802T170000
DTEND:20260802T181000
LOCATION:Kongresszentrum Davos
END:VEVENT
END:VCALENDAR
