BEGIN:VCALENDAR
PRODID:-//eluceo/ical//2.0/EN
VERSION:2.0
CALSCALE:GREGORIAN
BEGIN:VEVENT
UID:a54d1edc3626dd3d58067e06d5fbb597
DTSTAMP:20260421T035459Z
SUMMARY:Zwischenhalt\, Festival 2026\, Davos Festival
URL:https://davosfestival.ch/festival/2026/zwischenhalt-1-1-1-1-13-08-2026-
 17h00-bahnhof-davos-platz
DTSTART:20260813T170000
DTEND:20260813T173000
LOCATION:Bahnhof Davos Platz
END:VEVENT
END:VCALENDAR
