BEGIN:VCALENDAR
PRODID:-//eluceo/ical//2.0/EN
VERSION:2.0
CALSCALE:GREGORIAN
BEGIN:VEVENT
UID:6d1a34a56ab0608eaeca91dd4f100366
DTSTAMP:20260421T035240Z
SUMMARY:Auf die Plätze\, fertig\, los\, Festival 2026\, Davos Festival
URL:https://davosfestival.ch/festival/2026/auf-die-plaetze-fertig-los-01-08
 -2026-20h30-kongresszentrum-davos
DTSTART:20260801T203000
DTEND:20260801T215500
LOCATION:Kongresszentrum Davos
END:VEVENT
END:VCALENDAR
