BEGIN:VCALENDAR
PRODID:-//eluceo/ical//2.0/EN
VERSION:2.0
CALSCALE:GREGORIAN
BEGIN:VEVENT
UID:ebadab05ea1db40f883ec90693795b92
DTSTAMP:20260421T035112Z
SUMMARY:Zurück in die Zukunft\, Festival 2026\, Davos Festival
URL:https://davosfestival.ch/festival/2026/zurueck-in-die-zukunft-1-1-1-1-1
 -11-08-2026-11h00-kirche-st-theodul
DTSTART:20260811T110000
DTEND:20260811T113000
LOCATION:Kirche St. Theodul
GEO:46.809191;9.839670
X-APPLE-STRUCTURED-LOCATION;VALUE=URI;X-ADDRESS=Kirche St. Theodul;X-APPLE-
 RADIUS=49;X-TITLE=:geo:46.809191,9.839670
END:VEVENT
END:VCALENDAR
