BEGIN:VCALENDAR
PRODID:-//eluceo/ical//2.0/EN
VERSION:2.0
CALSCALE:GREGORIAN
BEGIN:VEVENT
UID:bd4d1b8ab9d197288f69d57fe02355d4
DTSTAMP:20260421T035041Z
SUMMARY:Courage\, Festival 2026\, Davos Festival
URL:https://davosfestival.ch/festival/2026/courage-10-08-2026-20h00-kirchne
 r-museum-davos
DTSTART:20260810T200000
DTEND:20260810T211000
LOCATION:Kirchner Museum Davos
GEO:46.800295;9.826685
X-APPLE-STRUCTURED-LOCATION;VALUE=URI;X-ADDRESS=Kirchner Museum Davos;X-APP
 LE-RADIUS=49;X-TITLE=:geo:46.800295,9.826685
END:VEVENT
END:VCALENDAR
